Workbook

Sheet HFT Open kategorie
A1: S l o v a k A i r g u n F i e l d T a r g e t A s s o c i a t i o n
A2: Slovenská Vzduchovková Field Target Asociácia
A4: V ý s l e d k o v á L i s t i n a / R e s u l t s
A5: International Hunter Field Target Slovak Open 2025, Skýcov 24 - 26.10.2025
D7: PCP | H7: Výsledky / Results
A8: Poradie Rank | B8: Meno Name | C8: Priezvisko Surname | D8: Zbraň Rifle | E8: Puškohľad Riflescope | F8: Strelivo Ammunition | G8: Štát Country | H8: 1.deň Results 1st day | I8: 2.deň Results 2nd day | J8: Results Sum
A9: 1 | B9: Miroslav | C9: Bauman | D9: Air Arms 500 | E9: Valiant HFT II. 3-12x42 | F9: JSB SHORT 4,52 | G9: CZ | H9: 42 | J9: =H9+I9 -> 42
A10: 2 | B10: Gábor | C10: Borbás | D10: Air Arms HFT 500 | E10: Vector Continental 2-16X44T | F10: JSB Exact 4.51 | G10: HU | H10: 40 | J10: =H10+I10 -> 40
A11: 3 | B11: Jiří | C11: Březina | D11: Walther LG400 | E11: MTC Viper Connect 3-12x24 | F11: JSB Exact 4.52 | G11: CZ | H11: 28 | J11: =H11+I11 -> 28
A12: 4 | B12: Ján | C12: Dvorák | D12: Walther LG300 | E12: Burris Timberline 4,5-14x32 | F12: JSB Exact 4.51 | G12: SK | H12: 27 | J12: =H12+I12 -> 27
A13: 5 | B13: Ivan | C13: Gašparík | D13: Air Arms S400 | E13: Cobra 3-9x42 | F13: JSB Exact 4.52 | G13: SK | H13: 28 | J13: =H13+I13 -> 28
A14: 6 | B14: Szilveszter | C14: Gecse | D14: Air Arms HFT 500 | E14: Falcon Endura S10i 1-10x24 | F14: JSB Exact 4.52 | G14: HU | H14: 29 | J14: =H14+I14 -> 29
A15: 7 | B15: Juraj | C15: Godor | D15: Anschütz 9015 | E15: Valiant 10x32 | F15: Air Arms Field 4.52 | G15: SK | H15: 28 | J15: =H15+I15 -> 28
A16: 8 | B16: Matej | C16: Grega | D16: Air Arms 500 | E16: Optisan EVX 4-16x44i | F16: JSB Exact 4.52 | G16: SK | H16: 42 | J16: =H16+I16 -> 42
A17: 9 | B17: Miroslav | C17: Grega. | D17: Walther LG300 | E17: Burris Timberline 4,5-14x32 | F17: JSB Exact 4.52 | G17: SK | H17: 36 | J17: =H17+I17 -> 36
A18: 10 | B18: Stanisław | C18: Gurba | D18: Air Arms EV2 | E18: Valiant 10x32 | F18: JSB Exact 4.52 | G18: PL | H18: 35 | J18: =H18+I18 -> 35
A19: 11 | B19: Pavel | C19: Halčák | D19: Steyr LG 110 | E19: Optisan CP 3-12×32 | F19: JSB Exact 4.53 | G19: SK | H19: 29 | J19: =H19+I19 -> 29
A20: 12 | B20: František | C20: Hulač | D20: Steyr Challenge FT | E20: Valiant 10x32 | F20: Air Arms Field 4.52 | G20: SK | H20: 29 | J20: =H20+I20 -> 29
... A36: 28 | B36: Lubomír | C36: Medek | D36: Walther LG300 | E36: Optisan CP 10x32 | F36: QYS | G36: CZ | H36: 40 | J36: =H36+I36 -> 40
A37: 29 | B37: Attila Csaba | C37: Molnár | D37: Walther LGm2 | E37: Vector Continental 3-18x50 | F37: JSB Exact 4.52 | G37: HU | J37: =H37+I37 -> 0
A38: 30 | B38: Peter | C38: Novek | D38: Air Arms S400 | E38: Sniper 3-12×32 | F38: JSB Exact 4.52 | G38: SK | H38: 23 | J38: =H38+I38 -> 23
A39: 31 | B39: Ákos | C39: Osztafin | D39: Feinwerkbau 900 | E39: Hawke Airmax 2-7x32 | F39: JSB Exact 4.52 | G39: HU | H39: 37 | J39: =H39+I39 -> 37
A40: 32 | B40: Ivo | C40: Peřina | D40: Pardini GPR16 | E40: March 1,5-15x42 | F40: JSB Exact 4.52 | G40: CZ | H40: 31 | J40: =H40+I40 -> 31
A41: 33 | B41: Roman | C41: Polomsky | D41: Air Arms 500 | E41: Sightron SIH 4-12x40 FTMOA-20 | F41: JSB Exact 4.52 | G41: SK | H41: 28 | J41: =H41+I41 -> 28
A42: 34 | B42: István | C42: Popovics | D42: Steyr LG 110 | E42: MTC Atom 10x32 | F42: JSB Exact 4.52 | G42: UA | H42: 31 | J42: =H42+I42 -> 31
A43: 35 | B43: István | C43: Pregun | D43: Feinwerkbau P70 FT | E43: Falcon Endura S10i 1-10x24 | F43: JSB Exact 4.53 | G43: HU | H43: 40 | J43: =H43+I43 -> 40
A44: 36 | B44: David | C44: Ryzý | D44: Artemis PP 700 | E44: Optisan CP 3-12×32 | F44: JSB Exact 4.53 | G44: CZ | H44: 30 | J44: =H44+I44 -> 30
A45: 37 | B45: David | C45: Šimko | D45: Air Arms S510 | E45: Vector Continental 2-16X44T | F45: Air Arms Field 4.52 | G45: SK | H45: 19 | J45: =H45+I45 -> 19
A46: 38 | B46: Vladimír | C46: Šipoš | D46: Steyr Challenge HFT | E46: Optisan CP 3-12×32 | F46: Air Arms Field 4.52 | G46: SK | H46: 27 | J46: =H46+I46 -> 27
A47: 39 | B47: István | C47: Sutyinszki | D47: Walther LG400 | E47: Falcon Endura S10i+ 1-10x24 | F47: H&N Baracuda 8 4.51 | G47: HU | H47: 46 | J47: =H47+I47 -> 46
A48: 40 | B48: Václav | C48: Švaňhal | D48: Air Arms S400 | E48: Optisan CP 10x32 | F48: JSB Exact 4.53 | G48: CZ | H48: 39 | J48: =H48+I48 -> 39
A49: 41 | B49: Marek | C49: Švaňhal. | D49: Walther LG400 | E49: Valiant 10x32 | F49: JSB Exact 4.52 | G49: CZ | H49: 19 | J49: =H49+I49 -> 19
... A62: 54 | B62: Richard | C62: Lőrincz | D62: CZ 200 | E62: MTC Viper 10x44 | F62: JSB Exact Express 4.52 | G62: SK | H62: 25 | J62: =H62+I62 -> 25
A63: 55 | J63: =H63+I63 -> 0
A64: 56 | J64: =H64+I64 -> 0
A65: 57
D67: PRUŽINA / SPRINGER | H67: Výsledky / Results
A68: Poradie Rank | B68: Meno Name | C68: Priezvisko Surname | D68: Zbraň Rifle | E68: Optika Riflescope | G68: Štát Country | H68: 1.deň Results 1st day | I68: 2.deň Results 2nd day | J68: Results Sum
A69: 1 | B69: Pavol | C69: Letko | D69: Air Arms TX200 | E69: Delta Stryker 5-50x56 | F69: JSB Exact 4.52 | G69: SK | J69: =H69+I69 -> 0
A70: 2 | B70: Rastislav | C70: Roďom | D70: Weihrauch HW 97 | E70: Sightron SIH-TAC 4-12x40 | F70: JSB Exact 4.52 | G70: SK | H70: 11 | J70: =H70+I70 -> 11
...

Sheet HFT OPEN 2025
A1: S l o v a k A i r g u n F i e l d T a r g e t A s s o c i a t i o n
A2: Slovenská Vzduchovková Field Target Asociácia
A4: V ý s l e d k o v á L i s t i n a / R e s u l t s
A5: International Hunter Field Target Slovak Open 2025, Skýcov 24 - 26.10.2025
I7: Výsledky / Results
A8: Poradie Rank | B8: Meno Name | C8: Priezvisko Surname | D8: Zbraň Rifle | E8: Puškohľad Riflescope | F8: Strelivo Ammunition | G8: Štát Country | H8: Kategoria Category | I8: 1.deň Results 1st day | J8: 2.deň Results 2nd day | K8: Results Sum
A9: 1 | B9: Miroslav | C9: Bauman | D9: Air Arms 500 | E9: Valiant HFT II. 3-12x42 | F9: JSB SHORT 4,52 | G9: CZ | H9: PCP | I9: =IF(C9="","",VLOOKUP(C9,'HFT Open kategorie'!$C$9:$J$204,6,FALSE)) -> 42 | J9: =IF(C9="","",VLOOKUP(C9,'HFT Open kategorie'!$C$9:$J$204,7,FALSE)) -> 0 | K9: =IF(C9="","",VLOOKUP(C9,'HFT Open kategorie'!$C$9:$J$204,8,FALSE)) -> 42
A10: 2 | B10: Gábor | C10: Borbás | D10: Air Arms HFT 500 | E10: Vector Continental 2-16X44T | F10: JSB Exact 4.51 | G10: HU | H10: PCP | I10: =IF(C10="","",VLOOKUP(C10,'HFT Open kategorie'!$C$9:$J$204,6,FALSE)) -> 40 | J10: =IF(C10="","",VLOOKUP(C10,'HFT Open kategorie'!$C$9:$J$204,7,FALSE)) -> 0 | K10: =IF(C10="","",VLOOKUP(C10,'HFT Open kategorie'!$C$9:$J$204,8,FALSE)) -> 40
A11: 3 | B11: Jiří | C11: Březina | D11: Walther LG400 | E11: MTC Viper Connect 3-12x24 | F11: JSB Exact 4.52 | G11: CZ | H11: PCP | I11: =IF(C11="","",VLOOKUP(C11,'HFT Open kategorie'!$C$9:$J$204,6,FALSE)) -> 28 | J11: =IF(C11="","",VLOOKUP(C11,'HFT Open kategorie'!$C$9:$J$204,7,FALSE)) -> 0 | K11: =IF(C11="","",VLOOKUP(C11,'HFT Open kategorie'!$C$9:$J$204,8,FALSE)) -> 28
A12: 4 | B12: Jiří | C12: Čihák | D12: Air Arms TX200 | E12: Optisan CP 10x32 | F12: QYS | G12: CZ | H12: Pružina/Springer | I12: =IF(C12="","",VLOOKUP(C12,'HFT Open kategorie'!$C$9:$J$204,6,FALSE)) -> 31 | J12: =IF(C12="","",VLOOKUP(C12,'HFT Open kategorie'!$C$9:$J$204,7,FALSE)) -> 0 | K12: =IF(C12="","",VLOOKUP(C12,'HFT Open kategorie'!$C$9:$J$204,8,FALSE)) -> 31
A13: 5 | B13: Ján | C13: Dvorák | D13: Walther LG300 | E13: Burris Timberline 4,5-14x32 | F13: JSB Exact 4.51 | G13: SK | H13: PCP | I13: =IF(C13="","",VLOOKUP(C13,'HFT Open kategorie'!$C$9:$J$204,6,FALSE)) -> 27 | J13: =IF(C13="","",VLOOKUP(C13,'HFT Open kategorie'!$C$9:$J$204,7,FALSE)) -> 0 | K13: =IF(C13="","",VLOOKUP(C13,'HFT Open kategorie'!$C$9:$J$204,8,FALSE)) -> 27
A14: 6 | B14: Alena | C14: Dvořáková | D14: Česká Zbrojovka CZ 200S | E14: Valiant 2-12x32 FFP | F14: JSB Exact 4.52 | G14: CZ | H14: Junior | I14: =IF(C14="","",VLOOKUP(C14,'HFT Open kategorie'!$C$9:$J$204,6,FALSE)) -> 16 | J14: =IF(C14="","",VLOOKUP(C14,'HFT Open kategorie'!$C$9:$J$204,7,FALSE)) -> 0 | K14: =IF(C14="","",VLOOKUP(C14,'HFT Open kategorie'!$C$9:$J$204,8,FALSE)) -> 16
A15: 7 | B15: István | C15: Fejes Tóth | D15: Air Arms TX200 | E15: Optisan CP 10x32 | F15: JSB Exact Express 4.52 | G15: HU | H15: Pružina/Springer | I15: =IF(C15="","",VLOOKUP(C15,'HFT Open kategorie'!$C$9:$J$204,6,FALSE)) -> 31 | J15: =IF(C15="","",VLOOKUP(C15,'HFT Open kategorie'!$C$9:$J$204,7,FALSE)) -> 0 | K15: =IF(C15="","",VLOOKUP(C15,'HFT Open kategorie'!$C$9:$J$204,8,FALSE)) -> 31
A16: 8 | B16: Ivan | C16: Gašparík | D16: Air Arms S400 | E16: Cobra 3-9x42 | F16: JSB Exact 4.52 | G16: SK | H16: PCP | I16: =IF(C16="","",VLOOKUP(C16,'HFT Open kategorie'!$C$9:$J$204,6,FALSE)) -> 28 | J16: =IF(C16="","",VLOOKUP(C16,'HFT Open kategorie'!$C$9:$J$204,7,FALSE)) -> 0 | K16: =IF(C16="","",VLOOKUP(C16,'HFT Open kategorie'!$C$9:$J$204,8,FALSE)) -> 28
A17: 9 | B17: Tomasz | C17: Gatlik | D17: Weihrauch HW 97 | E17: Vortex diamondback | F17: JSB Exact 4.52 | G17: PL | H17: Pružina/Springer | I17: =IF(C17="","",VLOOKUP(C17,'HFT Open kategorie'!$C$9:$J$204,6,FALSE)) -> 27 | J17: =IF(C17="","",VLOOKUP(C17,'HFT Open kategorie'!$C$9:$J$204,7,FALSE)) -> 0 | K17: =IF(C17="","",VLOOKUP(C17,'HFT Open kategorie'!$C$9:$J$204,8,FALSE)) -> 27
A18: 10 | B18: Szilveszter | C18: Gecse | D18: Air Arms HFT 500 | E18: Falcon Endura S10i 1-10x24 | F18: JSB Exact 4.52 | G18: HU | H18: PCP | I18: =IF(C18="","",VLOOKUP(C18,'HFT Open kategorie'!$C$9:$J$204,6,FALSE)) -> 29 | J18: =IF(C18="","",VLOOKUP(C18,'HFT Open kategorie'!$C$9:$J$204,7,FALSE)) -> 0 | K18: =IF(C18="","",VLOOKUP(C18,'HFT Open kategorie'!$C$9:$J$204,8,FALSE)) -> 29
A19: 11 | B19: Juraj | C19: Godor | D19: Anschütz 9015 | E19: Valiant 10x32 | F19: Air Arms Field 4.52 | G19: SK | H19: PCP | I19: =IF(C19="","",VLOOKUP(C19,'HFT Open kategorie'!$C$9:$J$204,6,FALSE)) -> 28 | J19: =IF(C19="","",VLOOKUP(C19,'HFT Open kategorie'!$C$9:$J$204,7,FALSE)) -> 0 | K19: =IF(C19="","",VLOOKUP(C19,'HFT Open kategorie'!$C$9:$J$204,8,FALSE)) -> 28
A20: 12 | B20: Matej | C20: Grega | D20: Air Arms 500 | E20: Optisan EVX 4-16x44i | F20: JSB Exact 4.52 | G20: SK | H20: PCP | I20: =IF(C20="","",VLOOKUP(C20,'HFT Open kategorie'!$C$9:$J$204,6,FALSE)) -> 42 | J20: =IF(C20="","",VLOOKUP(C20,'HFT Open kategorie'!$C$9:$J$204,7,FALSE)) -> 0 | K20: =IF(C20="","",VLOOKUP(C20,'HFT Open kategorie'!$C$9:$J$204,8,FALSE)) -> 42
... A96: 88 | B96: Marcel | C96: Žipaj | D96: Feinwerkbau 700 | E96: MTC Viper Connect 3-12x32 | F96: QYS | G96: SK | H96: PCP | I96: =IF(C96="","",VLOOKUP(C96,'HFT Open kategorie'!$C$9:$J$204,6,FALSE)) -> 34 | J96: =IF(C96="","",VLOOKUP(C96,'HFT Open kategorie'!$C$9:$J$204,7,FALSE)) -> 0 | K96: =IF(C96="","",VLOOKUP(C96,'HFT Open kategorie'!$C$9:$J$204,8,FALSE)) -> 34

Sheet Zoznam
A1: Lukáš | B1: Kráľ | C1: Air Arms 500 | D1: MTC Viper 10x44 | E1: JSB Exact 4.52 | F1: SK | G1: Junior
A2: František | B2: Vávra | C2: Walther LG400 | D2: Vortex Viper | E2: JSB Exact Express 4.52 | F2: CZ | G2: Junior
A3: Gregor Andrej | B3: Potocký | C3: Air Venturi Avenge-x | D3: DiscoveryOpt 6-24x50FFP | E3: JSB Exact Jumbo 5.5 | F3: SK | G3: Junior
A4: Alena | B4: Dvořáková | C4: Česká Zbrojovka CZ 200S | D4: Valiant 2-12x32 FFP | E4: JSB Exact 4.52 | F4: CZ | G4: Junior
A5: Peter | B5: Kráľ | C5: Air Arms 500 | D5: MTC Viper 10x44 | E5: JSB Exact 4.52 | F5: SK | G5: PCP
A6: Pavel | B6: Halčák | C6: Steyr LG 110 | D6: Optisan CP 3-12×32 | E6: JSB Exact 4.53 | F6: SK | G6: PCP
A7: Martin | B7: Tarnoczi | C7: Air Arms S400 | D7: Optisan CP 3-12×32 | E7: JSB Exact 4.52 | F7: SK | G7: PCP
A8: Roman | B8: Polomsky | C8: Air Arms 500 | D8: Sightron SIH 4-12x40 FTMOA-20 | E8: JSB Exact 4.52 | F8: SK | G8: PCP
A9: Matej | B9: Grega | C9: Air Arms 500 | D9: Optisan EVX 4-16x44i | E9: JSB Exact 4.52 | F9: SK | G9: PCP
A10: Miroslav | B10: Grega | C10: Walther LG300 | D10: Burris Timberline 4,5-14x32 | E10: JSB Exact 4.52 | F10: SK | G10: PCP
A11: David | B11: Šimko | C11: Air Arms S510 | D11: Vector Continental 2-16X44T | E11: Air Arms Field 4.52 | F11: SK | G11: PCP
A12: František | B12: Hulač | C12: Steyr Challenge FT | D12: Valiant 10x32 | E12: QYS | F12: SK | G12: PCP
... A87: Katalin | B87: Nagy | C87: Walther LG300 | D87: Vortex | E87: JSB Exact 4.52 | F87: HU | G87: Ženy/Women
A88: Géza | B88: Tóth | C88: Walther LG300 | D88: Vortex | E88: JSB Exact 4.52 | F88: HU | G88: PCP | K88: Géza | L88: Tóth | M88: Walther LG300 | N88: Vortex | O88: JSB Exact 4.52 | P88: HU | Q88: PCP

Sheet HFT Open kategorie (2)
A1: S l o v a k A i r g u n F i e l d T a r g e t A s s o c i a t i o n
A2: Slovenská Vzduchovková Field Target Asociácia
A4: V ý s l e d k o v á L i s t i n a / R e s u l t s
A5: International Hunter Field Target Slovak Open 2025, Skýcov 24 - 26.10.2025
D7: PCP | H7: Výsledky / Results
A8: Poradie Rank | B8: Meno Name | C8: Priezvisko Surname | D8: Zbraň Rifle | E8: Puškohľad Riflescope | F8: Strelivo Ammunition | G8: Štát Country | H8: 1.deň Results 1st day | I8: 2.deň Results 2nd day | J8: Results Sum
A9: 1 | B9: Wojciech | C9: Swachta | D9: Steyr Challenge FT | E9: Valiant 10x32 | F9: JSB Exact Heavy 4.52 | G9: PL | H9: 47 | J9: 47
A10: 2 | B10: István | C10: Sutyinszki | D10: Walther LG400 | E10: Falcon Endura S10i+ 1-10x24 | F10: H&N Baracuda 8 4.51 | G10: HU | H10: 46 | J10: 46
A11: 3 | B11: Vladimír | C11: Tuček | D11: Walther LG300 | E11: Valiant 10x32 | F11: JSB Exact 4.51 | G11: CZ | H11: 45 | J11: 45
A12: 4 | B12: Milan | C12: Komoráš | D12: Iné/Others - zadaj ďalej / fill the following item | E12: Burris Timberline 4,5-14x32 | F12: JSB Exact 4.52 | G12: SK | H12: 44 | J12: 44
A13: 5 | B13: Ferenc | C13: Tóth | D13: Steyr LG 110 | E13: Hawke 3-12x40 | F13: JSB Exact Express 4.52 | G13: HU | H13: 43 | J13: 43
A14: 6 | B14: Miroslav | C14: Bauman | D14: Air Arms 500 | E14: Valiant HFT II. 3-12x42 | F14: JSB SHORT 4,52 | G14: CZ | H14: 42 | J14: 42
A15: 7 | B15: Matej | C15: Grega | D15: Air Arms 500 | E15: Optisan EVX 4-16x44i | F15: JSB Exact 4.52 | G15: SK | H15: 42 | J15: 42
A16: 8 | B16: Jiří Dvořák | C16: Kosák | D16: Walther LG300 | E16: Hawke 3-12x40 | F16: JSB Exact 4.52 | G16: CZ | H16: 41 | J16: 41
A17: 9 | B17: Gábor | C17: Borbás | D17: Air Arms HFT 500 | E17: Vector Continental 2-16X44T | F17: JSB Exact 4.51 | G17: HU | H17: 40 | J17: 40
A18: 10 | B18: Ferenc | C18: Kozma | D18: Walther LG400 | E18: March 1-10x24 | F18: JSB Exact 4.52 | G18: HU | H18: 40 | J18: 40
A19: 11 | B19: Peter | C19: Kráľ | D19: Air Arms 500 | E19: MTC Viper 10x44 | F19: JSB Exact 4.52 | G19: SK | H19: 40 | J19: 40
A20: 12 | B20: Lubomír | C20: Medek | D20: Walther LG300 | E20: Optisan CP 10x32 | F20: QYS | G20: CZ | H20: 40 | J20: 40
... A61: 53 | B61: Ľuboš | C61: Kysel | D61: TAU 300 | E61: Valiant 10x44 | F61: JSB Exact 4.50 | G61: SK | H61: 14 | J61: 14
A62: 54 | B62: Attila Csaba | C62: Molnár | D62: Walther LGm2 | E62: Vector Continental 3-18x50 | F62: JSB Exact 4.52 | G62: HU | J62: 0
A63: 55 | J63: 0
A64: 56 | J64: 0
A65: 57
D67: PRUŽINA / SPRINGER | H67: Výsledky / Results
A68: Poradie Rank | B68: Meno Name | C68: Priezvisko Surname | D68: Zbraň Rifle | E68: Optika Riflescope | G68: Štát Country | H68: 1.deň Results 1st day | I68: 2.deň Results 2nd day | J68: Results Sum
A69: 1 | B69: Krzysztof | C69: Walicki | D69: Air Arms TX200 | E69: Valiant 10x32 | F69: JSB Exact 4.52 | G69: PL | H69: 36 | J69: 36
A70: 2 | B70: István | C70: Fejes Tóth | D70: Air Arms TX200 | E70: Optisan CP 10x32 | F70: JSB Exact Express 4.52 | G70: HU | H70: 31 | J70: 31
A71: 3 | B71: Jiří | C71: Čihák | D71: Air Arms TX200 | E71: Optisan CP 10x32 | F71: QYS | G71: CZ | H71: 31 | J71: 31
A72: 4 | B72: Tomasz | C72: Gatlik | D72: Weihrauch HW 97 | E72: Vortex diamondback | F72: JSB Exact 4.52 | G72: PL | H72: 27 | J72: 27
A73: 5 | B73: György | C73: Nádasi | D73: Air Arms TX200 | E73: Optisan CP 3-12×32 | F73: JSB Exact Express 4.52 | G73: HU | H73: 23 | J73: 23
A74: 6 | B74: Zoltán | C74: Végh | D74: Air Arms TX200 | E74: Nikko Stirling 3-40x40 AO | F74: JSB Exact Express 4.52 | G74: HU | H74: 22 | J74: 22
A75: 7 | B75: Imre | C75: Orbán | D75: Air Arms TX200 | E75: Discovery HD 2-12x24 | F75: JSB Exact Express 4.52 | G75: HU | H75: 20 | J75: 20
A76: 8 | B76: Adam | C76: Hyska | D76: HW 98 | E76: Valiant 10x32 | F76: QYS | G76: PL | H76: 17 | J76: 17
A77: 9 | B77: Mihály György | C77: Tóth.. | D77: Air Arms TX200 | E77: Falcon Endura S10i 1-10x24 | F77: JSB Exact Express 4.52 | G77: HU | H77: 17 | J77: 17
A78: 10 | B78: Rastislav | C78: Roďom | D78: Weihrauch HW 97 | E78: Sightron SIH-TAC 4-12x40 | F78: JSB Exact 4.52 | G78: SK | H78: 11 | J78: 11
A79: 11 | B79: Pavol | C79: Letko | D79: Air Arms TX200 | E79: Delta Stryker 5-50x56 | F79: JSB Exact 4.52 | G79: SK | J79: 0
A80: 12 | J80: 0
A81: 13 | J81: 0
A82: 14 | J82: 0
A83: 15 | J83: 0
...
